Workbook
Name Agents: #REF!
Name Agents: #REF!
Name Agents: #REF!
Name Agents: #REF!
Name Excel_BuiltIn_Print_Area_1: #REF!
Name Excel_BuiltIn_Print_Area_1: #REF!
Name Excel_BuiltIn_Print_Area_1: #REF!
Name Excel_BuiltIn_Print_Area_1: #REF!
Name Excel_BuiltIn_Print_Titles_1: #REF!
Name Excel_BuiltIn_Print_Titles_1: #REF!
Name Excel_BuiltIn_Print_Titles_1: #REF!
Name Excel_BuiltIn_Print_Titles_1: #REF!

Sheet Overside
A1: IV. УЧЕТ СТАЖА РАБОТЫ НА СУДНЕ И ПРАКТИЧЕСКОЙ ПОДГОТОВКИ В МОРСКИХ ОБРАЗОВАТЕЛЬНЫХ ОРГАНИЗАЦИЯХ
A2: (ВЫПИСКА ИЗ ПОЛОЖЕНИЯ О ДИПЛОМИРОВАНИИ ЧЛЕНОВ ЭКИПАЖЕЙ МОРСКИХ СУДОВ)
A3: ПРИКАЗ МИНИСТЕРСТВА ТРАНСПОРТА РФ от 8 ноября 2021г № 378
A5: 19. | B5: Учет стажа работы на судне члена экипажа морского судна (далее - стаж работы на судне) осуществляется на основании информации, указанной в
B6: мореходной книжке и/или ином документе, содержащем сведения о работе моряка в качестве члена экипажа судна, и/или документов, подтверждающих
B7: выполнение учебной программы морской образовательной организации (при первичном получении выпускниками морских образовательных организаций
B8: дипломов вахтенных помощников капитана морского судна, вахтенного механика морского судна и электромеханика морского судна) (далее - документы,
B9: подтверждающие наличие стажа работы на судне).
A10: 20. | B10: Для учета стажа работы на судне заявителем могут быть представлены иные документы, содержащие следующую информацию:
A11: - | B11: должность члена экипажа судна согласно судовой роли;
A12: - | B12: наименование судовладельца, адрес, телефоны, номер факсимильной связи, адрес электронной почты судовладельца;
A13: - | B13: название и уникальный идентификатор судна в соответствии с требованиями Международной морской организации (номер ИМО судна);
A14: - | B14: флаг и порт приписки судна;
A15: - | B15: валовая вместимость;
A16: - | B16: тип судна и род перевозимого груза (грузов);
A17: - | B17: мощность двигательной установки и тип судовой силовой установки;
A18: - | B18: мощность судового электрооборудования (для электромехаников);
A19: - | B19: районы плавания судна и порты захода;
A20: - | B20: дата начала и дата окончания работы на судне;
A21: - | B21: указание функций по квалификационному документу, исполняемых на судне;
A22: - | B22: общая продолжительность плавания с указанием продолжительности прибрежного плавания и плавания в полярных водах, а также плавания во льдах в период
B23: объявленной ледокольной проводки при следовании в (из) замерзающих морских портов (для судоводителей), а также с указанием стажа работы на судне,
B24: подпадающем под действие Кодекса МГТ (с указанием количества бункеровочных операций таким топливом), или танкерах, перевозящих в качестве груза
B25: виды топлива, охватываемые Кодексом МГТ;
A26: - | B26: общее время несения ходовой вахты и работы в качестве стажера члена экипажа судна под наблюдением дипломированного специалиста по
B27: соответствующей специальности, фамилия, имя и отчество (при наличии) такого специалиста и его квалификация по диплому;
A28: - | B28: выполнение требования пункта 7 Правила I/11 Конвенции ПДНВ в части обновления знаний национальных и международных документов, перечень которых
B29: публикуется Министерством транспорта Российской Федерации в соответствии с пунктом 2 Правила I/2 Конвенции ПДНВ на официальном сайте в
B30: информационно-телекоммуникационной сети "Интернет".
A31: 21. | B31: В дипломном отделе службы капитана морского порта составляется заключение о соответствии стажа работы на судне по объему, времени набора и
B32: исполнению функций на борту судна для выдачи (продления) соответствующего квалификационного документа, которое подписывает капитан морского
B33: порта. В целях составления заключения используются сведения о трудовой деятельности в электронном виде или на бумажном носителе <13>, содержащиеся
B34: в судовых ролях, копии которых представляет заявитель (при наличии данных документов у заявителя), письменных подтверждениях судовладельцев,
B35: организаций, осуществляющих деятельность по оказанию услуг по трудоустройству граждан Российской Федерации за пределами территории Российской
B36: Федерации <14>, на основании соответствующих запросов капитана морского порта. Документы, на основании которых составлено заключение, с копиями
B37: иных подтверждающих документов приобщаются к дипломному делу вместе с заключением о соответствии стажа работы на судне. По требованию заявителя
B38: копия заключения о соответствии стажа работы на судне выдается заявителю.
B39: <13> - Статья 66.1 Трудового кодекса Российской Федерации (Собрание законодательства Российской Федерации, 2002, N 1, ст. 3; 2019, N 51, ст. 7491).
B40: <14> - Пункт 35 части 1 статьи 12 Федерального закона от 4 мая 2011 г. N 99-ФЗ "О лицензировании отдельных видов деятельности" (Собрание законодательства
B41: Российской Федерации, 2011, N 19, ст. 2716).
...

Sheet Master
A1: СВЕДЕНИЯ О РАБОТЕ МОРЯКА В КАЧЕСТВЕ ЧЛЕНА ЭКИПАЖА СУДНА / CERTIFICATE OF SEAFARER SERVICE ON SHIP
A4: (смотри на обороте / see overleaf)
A6: Название компании / Name of Company | P6: SEA SHIPPING
A7: Адрес и контактные телефоны / Address and Contact Details | S7: The Netherlands
A8: Телефон / Tel.: | E8: +31 000 649800 | J8: Факс / Fax: | M8: +31 111 600801 | U8: e-mail: | W8: info@seashipping.nl
A9: Настоящим удостоверяю что: / This is certify that:
A10: 1.Фамилия, имя, отчество / Full name: | O10: Иванов Иван Иванович | AA10: Ivan Ivanov
A11: Дата рождения | G11: 1 | O11: работал на: (Название судна) | X11: m/v "Непобедимый"
A12: Date of Birth | G12: =G11 -> 1 | O12: has served on: (Name of Vessel)
A13: Номер ИМО | H13: 1234567 | O13: Порт приписки | Y13: Гибралтар
A14: IMO number | O14: Port of registry | Y14: Gibraltar
A15: Валовая вместимость | H15: 2535 g.t. | O15: Тип судна | Y15: Сухогруз
A16: Gross Tonnage | O16: Type of Vessel | Y16: Dry cargo
A17: Мощность двигательной установки | J17: 1620 Kw | O17: Тип ССУ | Y17: MAK 8M20
A18: Propulsion power | O18: Type of Main Propelling Machinery
A19: Мощность судового электрооборудования | L19: 1840 Kw | O19: Род перевозимого груза | Y19: Генеральный груз, навалом
A20: Power of ship's electric equipment | O20: Kind of carried cargo | Y20: General cargo, Bulk
A21: Район плавания (порты захода) / Area of operation (port of call):
A22: North sea, the North Atlantic ocean, Irish sea, Bay of Biscay / United Kingdom (Birkenhead, Newport, Erith, Ipswich, Pembroke, Silloth, Ayr, Belfast, Dagenham); Ireland (Waterford); Belgium (Puurs, Antwerp, Ghent); Netherlands (Rotterdam, Ijmuiden, Amsterdam, Sas Van Gent); Spain (Santander); France (la Pallice, Bordeaux)
A26: c / from | C26: 36556 | I26: =C26 -> 36556 | P26: по / to till | S26: 36891 | AB26: =S26 -> 36891
A27: в должности, согласно судовой роли / by the crew list in the capacity of | S27: Капитан | AB27: Master
A28: с выполнением функций по квалификационному документу/performing functions appropriate to the Certificate held:
A29: Судовождение/Navigation | O29: да/yes* нет/none* | R29: Судовые механические установки/Marine engineering | AF29: да/yes* нет/none*
A31: Обработка и размещение грузов / Cargo handling and stowage | O31: да/yes* нет/none* | R31: Электрооборудование, электронная аппаратура и системы управления / Electrical, electronic & control engineering | AF31: да/yes* нет/none*
A33: Управление операциями судна и забота о людях на судне / Controlling the operation of the ship & care for persons on board | O33: да/yes* нет/none* | R33: Техническое обслуживание и ремонт/Maintenance & repair | AF33: да/yes* нет/none*
A35: Радиосвязь/ Radiocommunications | AD35: да/yes* нет/none*
A36: Требование пункта 7 Правила I/11 Конвенции ПДНВ в части обновления знаний национальных и международных
A37: документов выполнено / par.7 of Reg. I/11 STCW is completed : да* нет*
A38: 2. На основании вышеуказанного общий стаж работы на судне составил: / On the grounds of the above mentioned the
A39: complete length of service on the vessel is: | L39: =MOD(IF(IF(S26<=EOMONTH(C26,0),FALSE,IF(IF(DAY(C26)=1,TRUE,FALSE),C26,EOMONTH(C26,0)+1)),IF(EOMONTH(DATE(YEAR(EOMONTH(DATE(YEAR(S26),MONTH(IF(S26<=EOMONTH(C26,0),FALSE,IF(IF(DAY(C26)=1,TRUE,FALSE),C26,EOMONTH(C26,0)+1)))-1,1),0))-IF(S26<EOMONTH(DATE(YEAR(S26),MONTH(IF(S26<=EOMONTH(C26,0),FALSE,IF(IF(DAY(C26)=1,TRUE,FALSE),C26,EOMONTH(C26,0)+1)))-1,1),0),1,0),MONTH(EOMONTH(DATE(YEAR(S26),MONTH(IF(S26<=EOMONTH(C26,0),FALSE,IF(IF(DAY(C26)=1,TRUE,FALSE),C26,EOMONTH(C26,0)+1)))-1,1),0)),1),0)+1>IF(EOMONTH(S26,0)=S26,S26,EOMONTH(S26,-1)),0,IF(MONTH(IF(EOMONTH(S26,0)=S26,S26,EOMONTH(S26,-1)))-MONTH(EOMONTH(DATE(YEAR(EOMONTH(DATE(YEAR(S26),MONTH(IF(S26<=EOMONTH(C26,0),FALSE,IF(IF(DAY(C26)=1,TRUE,FALSE),C26,EOMONTH(C26,0)+1)))-1,1),0))-IF(S26<EOMONTH(DATE(YEAR(S26),MONTH(IF(S26<=EOMONTH(C26,0),FALSE,IF(IF(DAY(C26)=1,TRUE,FALSE),C26,EOMONTH(C26,0)+1)))-1,1),0),1,0),MONTH(EOMONTH(DATE(YEAR(S26),MONTH(IF(S26<=EOMONTH(C26,0),FALSE,IF(IF(DAY(C26)=1,TRUE,FALSE),C26,EOMONTH(C26,0)+1)))-1,1),0)),1),0)+1)+1<0,12-MONTH(EOMONTH(DATE(YEAR(EOMONTH(DATE(YEAR(S26),MONTH(IF(S26<=EOMONTH(C26,0),FALSE,IF(IF(DAY(C26)=1,TRUE,FALSE),C26,EOMONTH(C26,0)+1)))-1,1),0))-IF(S26<EOMONTH(DATE(YEAR(S26),MONTH(IF(S26<=EOMONTH(C26,0),FALSE,IF(IF(DAY(C26)=1,TRUE,FALSE),C26,EOMONTH(C26,0)+1)))-1,1),0),1,0),MONTH(EOMONTH(DATE(YEAR(S26),MONTH(IF(S26<=EOMONTH(C26,0),FALSE,IF(IF(DAY(C26)=1,TRUE,FALSE),C26,EOMONTH(C26,0)+1)))-1,1),0)),1),0)+1)+MONTH(IF(EOMONTH(S26,0)=S26,S26,EOMONTH(S26,-1)))+1,MONTH(IF(EOMONTH(S26,0)=S26,S26,EOMONTH(S26,-1)))-MONTH(EOMONTH(DATE(YEAR(EOMONTH(DATE(YEAR(S26),MONTH(IF(S26<=EOMONTH(C26,0),FALSE,IF(IF(DAY(C26)=1,TRUE,FALSE),C26,EOMONTH(C26,0)+1)))-1,1),0))-IF(S26<EOMONTH(DATE(YEAR(S26),MONTH(IF(S26<=EOMONTH(C26,0),FALSE,IF(IF(DAY(C26)=1,TRUE,FALSE),C26,EOMONTH(C26,0)+1)))-1,1),0),1,0),MONTH(EOMONTH(DATE(YEAR(S26),MONTH(IF(S26<=EOMONTH(C26,0),FALSE,IF(IF(DAY(C26)=1,TRUE,FALSE),C26,EOMONTH(C26,0)+1)))-1,1),0)),1),0)+1)+1)),0)+INT((IF(IF(S26<=EOMONTH(C26,0),FALSE,IF(IF(DAY(C26)=1,TRUE,FALSE),C26,EOMONTH(C26,0)+1)),S26-EOMONTH(EOMONTH(DATE(YEAR(EOMONTH(DATE(YEAR(S26),MONTH(IF(S26<=EOMONTH(C26,0),FALSE,IF(IF(DAY(C26)=1,TRUE,FALSE),C26,EOMONTH(C26,0)+1)))-1,1),0))-IF(S26<EOMONTH(DATE(YEAR(S26),MONTH(IF(S26<=EOMONTH(C26,0),FALSE,IF(IF(DAY(C26)=1,TRUE,FALSE),C26,EOMONTH(C26,0)+1)))-1,1),0),1,0),MONTH(EOMONTH(DATE(YEAR(S26),MONTH(IF(S26<=EOMONTH(C26,0),FALSE,IF(IF(DAY(C26)=1,TRUE,FALSE),C26,EOMONTH(C26,0)+1)))-1,1),0)),1),0)+1-1,IF(IF(S26<=EOMONTH(C26,0),FALSE,IF(IF(DAY(C26)=1,TRUE,FALSE),C26,EOMONTH(C26,0)+1)),IF(EOMONTH(DATE(YEAR(EOMONTH(DATE(YEAR(S26),MONTH(IF(S26<=EOMONTH(C26,0),FALSE,IF(IF(DAY(C26)=1,TRUE,FALSE),C26,EOMONTH(C26,0)+1)))-1,1),0))-IF(S26<EOMONTH(DATE(YEAR(S26),MONTH(IF(S26<=EOMONTH(C26,0),FALSE,IF(IF(DAY(C26)=1,TRUE,FALSE),C26,EOMONTH(C26,0)+1)))-1,1),0),1,0),MONTH(EOMONTH(DATE(YEAR(S26),MONTH(IF(S26<=EOMONTH(C26,0),FALSE,IF(IF(DAY(C26)=1,TRUE,FALSE),C26,EOMONTH(C26,0)+1)))-1,1),0)),1),0)+1>IF(EOMONTH(S26,0)=S26,S26,EOMONTH(S26,-1)),0,IF(MONTH(IF(EOMONTH(S26,0)=S26,S26,EOMONTH(S26,-1)))-MONTH(EOMONTH(DATE(YEAR(EOMONTH(DATE(YEAR(S26),MONTH(IF(S26<=EOMONTH(C26,0),FALSE,IF(IF(DAY(C26)=1,TRUE,FALSE),C26,EOMONTH(C26,0)+1)))-1,1),0))-IF(S26<EOMONTH(DATE(YEAR(S26),MONTH(IF(S26<=EOMONTH(C26,0),FALSE,IF(IF(DAY(C26)=1,TRUE,FALSE),C26,EOMONTH(C26,0)+1)))-1,1),0),1,0),MONTH(EOMONTH(DATE(YEAR(S26),MONTH(IF(S26<=EOMONTH(C26,0),FALSE,IF(IF(DAY(C26)=1,TRUE,FALSE),C26,EOMONTH(C26,0)+1)))-1,1),0)),1),0)+1)+1<0,12-MONTH(EOMONTH(DATE(YEAR(EOMONTH(DATE(YEAR(S26),MONTH(IF(S26<=EOMONTH(C26,0),FALSE,IF(IF(DAY(C26)=1,TRUE,FALSE),C26,EOMONTH(C26,0)+1)))-1,1),0))-IF(S26<EOMONTH(DATE(YEAR(S26),MONTH(IF(S26<=EOMONTH(C26,0),FALSE,IF(IF(DAY(C26)=1,TRUE,FALSE),C26,EOMONTH(C26,0)+1)))-1,1),0),1,0),MONTH(EOMONTH(DATE(YEAR(S26),MONTH(IF(S26<=EOMONTH(C26,0),FALSE,IF(IF(DAY(C26)=1,TRUE,FALSE),C26,EOMONTH(C26,0)+1)))-1,1),0)),1),0)+1)+MONTH(IF(EOMONTH(S26,0)=S26,S26,EOMONTH(S26,-1)))+1,MONTH(IF(EOMONTH(S26,0)=S26,S26,EOMONTH(S26,-1)))-MONTH(EOMONTH(DATE(YEAR(EOMONTH(DATE(YEAR(S26),MONTH(IF(S26<=EOMONTH(C26,0),FALSE,IF(IF(DAY(C26)=1,TRUE,FALSE),C26,EOMONTH(C26,0)+1)))-1,1),0))-IF(S26<EOMONTH(DATE(YEAR(S26),MONTH(IF(S26<=EOMONTH(C26,0),FALSE,IF(IF(DAY(C26)=1,TRUE,FALSE),C26,EOMONTH(C26,0)+1)))-1,1),0),1,0),MONTH(EOMONTH(DATE(YEAR(S26),MONTH(IF(S26<=EOMONTH(C26,0),FALSE,IF(IF(DAY(C26)=1,TRUE,FALSE),C26,EOMONTH(C26,0)+1)))-1,1),0)),1),0)+1)+1)),0)),0)+IF(S26<=EOMONTH(C26,0),S26-C26+1,IF(IF(DAY(C26)=1,TRUE,FALSE),0,EOMONTH(C26,0)-C26+1)))/30),12) -> 11 | Q39: =CHOOSE((MOD(L39-5,100)>15)+1,"месяцев / month",LOOKUP(MOD(L39-1,10),{0,1,4},{"месяц / month","месяца / months","месяцев / months"})) -> месяцев / month | V39: =MOD(IF(IF(S26<=EOMONTH(C26,0),FALSE,IF(IF(DAY(C26)=1,TRUE,FALSE),C26,EOMONTH(C26,0)+1)),S26-EOMONTH(EOMONTH(DATE(YEAR(EOMONTH(DATE(YEAR(S26),MONTH(IF(S26<=EOMONTH(C26,0),FALSE,IF(IF(DAY(C26)=1,TRUE,FALSE),C26,EOMONTH(C26,0)+1)))-1,1),0))-IF(S26<EOMONTH(DATE(YEAR(S26),MONTH(IF(S26<=EOMONTH(C26,0),FALSE,IF(IF(DAY(C26)=1,TRUE,FALSE),C26,EOMONTH(C26,0)+1)))-1,1),0),1,0),MONTH(EOMONTH(DATE(YEAR(S26),MONTH(IF(S26<=EOMONTH(C26,0),FALSE,IF(IF(DAY(C26)=1,TRUE,FALSE),C26,EOMONTH(C26,0)+1)))-1,1),0)),1),0)+1-1,IF(IF(S26<=EOMONTH(C26,0),FALSE,IF(IF(DAY(C26)=1,TRUE,FALSE),C26,EOMONTH(C26,0)+1)),IF(EOMONTH(DATE(YEAR(EOMONTH(DATE(YEAR(S26),MONTH(IF(S26<=EOMONTH(C26,0),FALSE,IF(IF(DAY(C26)=1,TRUE,FALSE),C26,EOMONTH(C26,0)+1)))-1,1),0))-IF(S26<EOMONTH(DATE(YEAR(S26),MONTH(IF(S26<=EOMONTH(C26,0),FALSE,IF(IF(DAY(C26)=1,TRUE,FALSE),C26,EOMONTH(C26,0)+1)))-1,1),0),1,0),MONTH(EOMONTH(DATE(YEAR(S26),MONTH(IF(S26<=EOMONTH(C26,0),FALSE,IF(IF(DAY(C26)=1,TRUE,FALSE),C26,EOMONTH(C26,0)+1)))-1,1),0)),1),0)+1>IF(EOMONTH(S26,0)=S26,S26,EOMONTH(S26,-1)),0,IF(MONTH(IF(EOMONTH(S26,0)=S26,S26,EOMONTH(S26,-1)))-MONTH(EOMONTH(DATE(YEAR(EOMONTH(DATE(YEAR(S26),MONTH(IF(S26<=EOMONTH(C26,0),FALSE,IF(IF(DAY(C26)=1,TRUE,FALSE),C26,EOMONTH(C26,0)+1)))-1,1),0))-IF(S26<EOMONTH(DATE(YEAR(S26),MONTH(IF(S26<=EOMONTH(C26,0),FALSE,IF(IF(DAY(C26)=1,TRUE,FALSE),C26,EOMONTH(C26,0)+1)))-1,1),0),1,0),MONTH(EOMONTH(DATE(YEAR(S26),MONTH(IF(S26<=EOMONTH(C26,0),FALSE,IF(IF(DAY(C26)=1,TRUE,FALSE),C26,EOMONTH(C26,0)+1)))-1,1),0)),1),0)+1)+1<0,12-MONTH(EOMONTH(DATE(YEAR(EOMONTH(DATE(YEAR(S26),MONTH(IF(S26<=EOMONTH(C26,0),FALSE,IF(IF(DAY(C26)=1,TRUE,FALSE),C26,EOMONTH(C26,0)+1)))-1,1),0))-IF(S26<EOMONTH(DATE(YEAR(S26),MONTH(IF(S26<=EOMONTH(C26,0),FALSE,IF(IF(DAY(C26)=1,TRUE,FALSE),C26,EOMONTH(C26,0)+1)))-1,1),0),1,0),MONTH(EOMONTH(DATE(YEAR(S26),MONTH(IF(S26<=EOMONTH(C26,0),FALSE,IF(IF(DAY(C26)=1,TRUE,FALSE),C26,EOMONTH(C26,0)+1)))-1,1),0)),1),0)+1)+MONTH(IF(EOMONTH(S26,0)=S26,S26,EOMONTH(S26,-1)))+1,MONTH(IF(EOMONTH(S26,0)=S26,S26,EOMONTH(S26,-1)))-MONTH(EOMONTH(DATE(YEAR(EOMONTH(DATE(YEAR(S26),MONTH(IF(S26<=EOMONTH(C26,0),FALSE,IF(IF(DAY(C26)=1,TRUE,FALSE),C26,EOMONTH(C26,0)+1)))-1,1),0))-IF(S26<EOMONTH(DATE(YEAR(S26),MONTH(IF(S26<=EOMONTH(C26,0),FALSE,IF(IF(DAY(C26)=1,TRUE,FALSE),C26,EOMONTH(C26,0)+1)))-1,1),0),1,0),MONTH(EOMONTH(DATE(YEAR(S26),MONTH(IF(S26<=EOMONTH(C26,0),FALSE,IF(IF(DAY(C26)=1,TRUE,FALSE),C26,EOMONTH(C26,0)+1)))-1,1),0)),1),0)+1)+1)),0)),0)+IF(S26<=EOMONTH(C26,0),S26-C26+1,IF(IF(DAY(C26)=1,TRUE,FALSE),0,EOMONTH(C26,0)-C26+1)),30) -> 1 | AA39: =CHOOSE((MOD(V39-5,100)>15)+1,"дней / days",LOOKUP(MOD(V39-1,10),{0,1,4},{"день / day","дня / days","дней / days"})) -> день / day
A40: включая время стоянки судна в порту в процессе непрерывного плавания, время нахождения судна в ремонте, время работы МПП
A41: в стационарном положении, в совокупности не более одного месяца / including time of ship' staying in a port during the continuous voyage and
A42: the period of ship's repairs in total not exceeding one month
A43: 2.1. в том числе (только для судоводителей) / navigators only:
A44: а) стаж плавания иного, чем прибрежное плавание и плавание по ВВП РФ / total time of seagoing service excluding near-coastal & RF
A45: inland waterways service: | J45: =L39 -> 11 | L45: =CHOOSE((MOD(L39-5,100)>15)+1,"месяцев / month",LOOKUP(MOD(L39-1,10),{0,1,4},{"месяц / month","месяца / months","месяцев / months"})) -> месяцев / month | Q45: =V39 -> 1 | S45: =CHOOSE((MOD(V39-5,100)>15)+1,"дней / days",LOOKUP(MOD(V39-1,10),{0,1,4},{"день / day","дня / days","дней / days"})) -> день / day
A46: b) стаж работы на судне прибрежного плавания, а также плавание по ВВП, внутренних морских водах РФ, на ВВП РФ и
A47: акваториях морских портов РФ/ RF inland sea waters, RF inland waterways & RF port waters service:
G48: =CHOOSE((MOD(E48-5,100)>15)+1,"месяцев / month",LOOKUP(MOD(E48-1,10),{0,1,4},{"месяц / month","месяца / months","месяцев / months"})) -> месяцев / months | O48: =CHOOSE((MOD(M48-5,100)>15)+1,"дней / days",LOOKUP(MOD(M48-1,10),{0,1,4},{"день / day","дня / days","дней / days"})) -> дней / days
A49: c) выполнял обязанности, связанные с использованием аппаратуры ГМССБ / carried out duties connected with using GMDSS
...

Sheet Ch.eng
A1: СВЕДЕНИЯ О РАБОТЕ МОРЯКА В КАЧЕСТВЕ ЧЛЕНА ЭКИПАЖА СУДНА / CERTIFICATE OF SEAFARER SERVICE ON SHIP
A4: (смотри на обороте / see overleaf)
A6: Название компании / Name of Company | P6: =Master!P6 -> SEA SHIPPING
A7: Адрес и контактные телефоны / Address and Contact Details | S7: =Master!S7 -> The Netherlands
A8: Телефон / Tel.: | E8: =Master!E8 -> +31 000 649800 | J8: Факс / Fax: | M8: =Master!M8 -> +31 111 600801 | U8: e-mail: | W8: =Master!W8 -> info@seashipping.nl
A9: Настоящим удостоверяю что: / This is certify that:
A10: 1.Фамилия, имя, отчество / Full name: | O10: Петров Иван Иванович | AA10: Ivan Petrov
A11: Дата рождения | G11: 01.01.1800 | O11: работал на: (Название судна) | X11: =Master!X11 -> m/v "Непобедимый"
A12: Date of Birth | G12: =G11 -> 01.01.1800 | O12: has served on: (Name of Vessel)
A13: Номер ИМО | H13: =Master!H13 -> 1234567 | O13: Порт приписки | Y13: =Master!Y13 -> Гибралтар
A14: IMO number | O14: Port of registry | Y14: =Master!Y14 -> Gibraltar
A15: Валовая вместимость | H15: =Master!H15 -> 2535 g.t. | O15: Тип судна | Y15: =Master!Y15 -> Сухогруз
A16: Gross Tonnage | O16: Type of Vessel | Y16: =Master!Y16 -> Dry cargo
A17: Мощность двигательной установки | J17: =Master!J17 -> 1620 Kw | O17: Тип ССУ | Y17: =Master!Y17 -> MAK 8M20
A18: Propulsion power | O18: Type of Main Propelling Machinery
A19: Мощность судового электрооборудования | L19: =Master!L19 -> 1840 Kw | O19: Род перевозимого груза | Y19: =Master!Y19 -> Генеральный груз, навалом
A20: Power of ship's electric equipment | O20: Kind of carried cargo | Y20: =Master!Y20 -> General cargo, Bulk
A21: Район плавания (порты захода) / Area of operation (port of call):
A22: North sea, the North Atlantic ocean, Irish sea, Bay of Biscay / United Kingdom (Birkenhead, Newport, Erith, Ipswich, Pembroke, Silloth, Ayr, Belfast, Dagenham); Ireland (Waterford); Belgium (Puurs, Antwerp, Ghent); Netherlands (Rotterdam, Ijmuiden, Amsterdam, Sas Van Gent); Spain (Santander); France (la Pallice, Bordeaux)
A26: c / from | C26: 36526 | I26: =C26 -> 36526 | P26: по / to till | S26: 36861 | AB26: =S26 -> 36861
A27: в должности, согласно судовой роли / by the crew list in the capacity of | S27: Старший механик | AB27: Chief Engineer
A28: с выполнением функций по квалификационному документу/performing functions appropriate to the Certificate held:
A29: Судовождение/Navigation | O29: да/yes* нет/none* | R29: Судовые механические установки/Marine engineering | AF29: да/yes* нет/none*
A31: Обработка и размещение грузов / Cargo handling and stowage | O31: да/yes* нет/none* | R31: Электрооборудование, электронная аппаратура и системы управления / Electrical, electronic & control engineering | AF31: да/yes* нет/none*
A33: Управление операциями судна и забота о людях на судне / Controlling the operation of the ship & care for persons on board | O33: да/yes* нет/none* | R33: Техническое обслуживание и ремонт/Maintenance & repair | AF33: да/yes* нет/none*
A35: Радиосвязь/ Radiocommunications | AD35: да/yes* нет/none*
A36: Требование пункта 7 Правила I/11 Конвенции ПДНВ в части обновления знаний национальных и международных
A37: документов выполнено / par.7 of Reg. I/11 STCW is completed : да* нет*
A38: 2. На основании вышеуказанного общий стаж работы на судне составил: / On the grounds of the above mentioned the
A39: complete length of service on the vessel is: | L39: =MOD(IF(IF(S26<=EOMONTH(C26,0),FALSE,IF(IF(DAY(C26)=1,TRUE,FALSE),C26,EOMONTH(C26,0)+1)),IF(EOMONTH(DATE(YEAR(EOMONTH(DATE(YEAR(S26),MONTH(IF(S26<=EOMONTH(C26,0),FALSE,IF(IF(DAY(C26)=1,TRUE,FALSE),C26,EOMONTH(C26,0)+1)))-1,1),0))-IF(S26<EOMONTH(DATE(YEAR(S26),MONTH(IF(S26<=EOMONTH(C26,0),FALSE,IF(IF(DAY(C26)=1,TRUE,FALSE),C26,EOMONTH(C26,0)+1)))-1,1),0),1,0),MONTH(EOMONTH(DATE(YEAR(S26),MONTH(IF(S26<=EOMONTH(C26,0),FALSE,IF(IF(DAY(C26)=1,TRUE,FALSE),C26,EOMONTH(C26,0)+1)))-1,1),0)),1),0)+1>IF(EOMONTH(S26,0)=S26,S26,EOMONTH(S26,-1)),0,IF(MONTH(IF(EOMONTH(S26,0)=S26,S26,EOMONTH(S26,-1)))-MONTH(EOMONTH(DATE(YEAR(EOMONTH(DATE(YEAR(S26),MONTH(IF(S26<=EOMONTH(C26,0),FALSE,IF(IF(DAY(C26)=1,TRUE,FALSE),C26,EOMONTH(C26,0)+1)))-1,1),0))-IF(S26<EOMONTH(DATE(YEAR(S26),MONTH(IF(S26<=EOMONTH(C26,0),FALSE,IF(IF(DAY(C26)=1,TRUE,FALSE),C26,EOMONTH(C26,0)+1)))-1,1),0),1,0),MONTH(EOMONTH(DATE(YEAR(S26),MONTH(IF(S26<=EOMONTH(C26,0),FALSE,IF(IF(DAY(C26)=1,TRUE,FALSE),C26,EOMONTH(C26,0)+1)))-1,1),0)),1),0)+1)+1<0,12-MONTH(EOMONTH(DATE(YEAR(EOMONTH(DATE(YEAR(S26),MONTH(IF(S26<=EOMONTH(C26,0),FALSE,IF(IF(DAY(C26)=1,TRUE,FALSE),C26,EOMONTH(C26,0)+1)))-1,1),0))-IF(S26<EOMONTH(DATE(YEAR(S26),MONTH(IF(S26<=EOMONTH(C26,0),FALSE,IF(IF(DAY(C26)=1,TRUE,FALSE),C26,EOMONTH(C26,0)+1)))-1,1),0),1,0),MONTH(EOMONTH(DATE(YEAR(S26),MONTH(IF(S26<=EOMONTH(C26,0),FALSE,IF(IF(DAY(C26)=1,TRUE,FALSE),C26,EOMONTH(C26,0)+1)))-1,1),0)),1),0)+1)+MONTH(IF(EOMONTH(S26,0)=S26,S26,EOMONTH(S26,-1)))+1,MONTH(IF(EOMONTH(S26,0)=S26,S26,EOMONTH(S26,-1)))-MONTH(EOMONTH(DATE(YEAR(EOMONTH(DATE(YEAR(S26),MONTH(IF(S26<=EOMONTH(C26,0),FALSE,IF(IF(DAY(C26)=1,TRUE,FALSE),C26,EOMONTH(C26,0)+1)))-1,1),0))-IF(S26<EOMONTH(DATE(YEAR(S26),MONTH(IF(S26<=EOMONTH(C26,0),FALSE,IF(IF(DAY(C26)=1,TRUE,FALSE),C26,EOMONTH(C26,0)+1)))-1,1),0),1,0),MONTH(EOMONTH(DATE(YEAR(S26),MONTH(IF(S26<=EOMONTH(C26,0),FALSE,IF(IF(DAY(C26)=1,TRUE,FALSE),C26,EOMONTH(C26,0)+1)))-1,1),0)),1),0)+1)+1)),0)+INT((IF(IF(S26<=EOMONTH(C26,0),FALSE,IF(IF(DAY(C26)=1,TRUE,FALSE),C26,EOMONTH(C26,0)+1)),S26-EOMONTH(EOMONTH(DATE(YEAR(EOMONTH(DATE(YEAR(S26),MONTH(IF(S26<=EOMONTH(C26,0),FALSE,IF(IF(DAY(C26)=1,TRUE,FALSE),C26,EOMONTH(C26,0)+1)))-1,1),0))-IF(S26<EOMONTH(DATE(YEAR(S26),MONTH(IF(S26<=EOMONTH(C26,0),FALSE,IF(IF(DAY(C26)=1,TRUE,FALSE),C26,EOMONTH(C26,0)+1)))-1,1),0),1,0),MONTH(EOMONTH(DATE(YEAR(S26),MONTH(IF(S26<=EOMONTH(C26,0),FALSE,IF(IF(DAY(C26)=1,TRUE,FALSE),C26,EOMONTH(C26,0)+1)))-1,1),0)),1),0)+1-1,IF(IF(S26<=EOMONTH(C26,0),FALSE,IF(IF(DAY(C26)=1,TRUE,FALSE),C26,EOMONTH(C26,0)+1)),IF(EOMONTH(DATE(YEAR(EOMONTH(DATE(YEAR(S26),MONTH(IF(S26<=EOMONTH(C26,0),FALSE,IF(IF(DAY(C26)=1,TRUE,FALSE),C26,EOMONTH(C26,0)+1)))-1,1),0))-IF(S26<EOMONTH(DATE(YEAR(S26),MONTH(IF(S26<=EOMONTH(C26,0),FALSE,IF(IF(DAY(C26)=1,TRUE,FALSE),C26,EOMONTH(C26,0)+1)))-1,1),0),1,0),MONTH(EOMONTH(DATE(YEAR(S26),MONTH(IF(S26<=EOMONTH(C26,0),FALSE,IF(IF(DAY(C26)=1,TRUE,FALSE),C26,EOMONTH(C26,0)+1)))-1,1),0)),1),0)+1>IF(EOMONTH(S26,0)=S26,S26,EOMONTH(S26,-1)),0,IF(MONTH(IF(EOMONTH(S26,0)=S26,S26,EOMONTH(S26,-1)))-MONTH(EOMONTH(DATE(YEAR(EOMONTH(DATE(YEAR(S26),MONTH(IF(S26<=EOMONTH(C26,0),FALSE,IF(IF(DAY(C26)=1,TRUE,FALSE),C26,EOMONTH(C26,0)+1)))-1,1),0))-IF(S26<EOMONTH(DATE(YEAR(S26),MONTH(IF(S26<=EOMONTH(C26,0),FALSE,IF(IF(DAY(C26)=1,TRUE,FALSE),C26,EOMONTH(C26,0)+1)))-1,1),0),1,0),MONTH(EOMONTH(DATE(YEAR(S26),MONTH(IF(S26<=EOMONTH(C26,0),FALSE,IF(IF(DAY(C26)=1,TRUE,FALSE),C26,EOMONTH(C26,0)+1)))-1,1),0)),1),0)+1)+1<0,12-MONTH(EOMONTH(DATE(YEAR(EOMONTH(DATE(YEAR(S26),MONTH(IF(S26<=EOMONTH(C26,0),FALSE,IF(IF(DAY(C26)=1,TRUE,FALSE),C26,EOMONTH(C26,0)+1)))-1,1),0))-IF(S26<EOMONTH(DATE(YEAR(S26),MONTH(IF(S26<=EOMONTH(C26,0),FALSE,IF(IF(DAY(C26)=1,TRUE,FALSE),C26,EOMONTH(C26,0)+1)))-1,1),0),1,0),MONTH(EOMONTH(DATE(YEAR(S26),MONTH(IF(S26<=EOMONTH(C26,0),FALSE,IF(IF(DAY(C26)=1,TRUE,FALSE),C26,EOMONTH(C26,0)+1)))-1,1),0)),1),0)+1)+MONTH(IF(EOMONTH(S26,0)=S26,S26,EOMONTH(S26,-1)))+1,MONTH(IF(EOMONTH(S26,0)=S26,S26,EOMONTH(S26,-1)))-MONTH(EOMONTH(DATE(YEAR(EOMONTH(DATE(YEAR(S26),MONTH(IF(S26<=EOMONTH(C26,0),FALSE,IF(IF(DAY(C26)=1,TRUE,FALSE),C26,EOMONTH(C26,0)+1)))-1,1),0))-IF(S26<EOMONTH(DATE(YEAR(S26),MONTH(IF(S26<=EOMONTH(C26,0),FALSE,IF(IF(DAY(C26)=1,TRUE,FALSE),C26,EOMONTH(C26,0)+1)))-1,1),0),1,0),MONTH(EOMONTH(DATE(YEAR(S26),MONTH(IF(S26<=EOMONTH(C26,0),FALSE,IF(IF(DAY(C26)=1,TRUE,FALSE),C26,EOMONTH(C26,0)+1)))-1,1),0)),1),0)+1)+1)),0)),0)+IF(S26<=EOMONTH(C26,0),S26-C26+1,IF(IF(DAY(C26)=1,TRUE,FALSE),0,EOMONTH(C26,0)-C26+1)))/30),12) -> 11 | Q39: =CHOOSE((MOD(L39-5,100)>15)+1,"месяцев / month",LOOKUP(MOD(L39-1,10),{0,1,4},{"месяц / month","месяца / months","месяцев / months"})) -> месяцев / month | V39: =MOD(IF(IF(S26<=EOMONTH(C26,0),FALSE,IF(IF(DAY(C26)=1,TRUE,FALSE),C26,EOMONTH(C26,0)+1)),S26-EOMONTH(EOMONTH(DATE(YEAR(EOMONTH(DATE(YEAR(S26),MONTH(IF(S26<=EOMONTH(C26,0),FALSE,IF(IF(DAY(C26)=1,TRUE,FALSE),C26,EOMONTH(C26,0)+1)))-1,1),0))-IF(S26<EOMONTH(DATE(YEAR(S26),MONTH(IF(S26<=EOMONTH(C26,0),FALSE,IF(IF(DAY(C26)=1,TRUE,FALSE),C26,EOMONTH(C26,0)+1)))-1,1),0),1,0),MONTH(EOMONTH(DATE(YEAR(S26),MONTH(IF(S26<=EOMONTH(C26,0),FALSE,IF(IF(DAY(C26)=1,TRUE,FALSE),C26,EOMONTH(C26,0)+1)))-1,1),0)),1),0)+1-1,IF(IF(S26<=EOMONTH(C26,0),FALSE,IF(IF(DAY(C26)=1,TRUE,FALSE),C26,EOMONTH(C26,0)+1)),IF(EOMONTH(DATE(YEAR(EOMONTH(DATE(YEAR(S26),MONTH(IF(S26<=EOMONTH(C26,0),FALSE,IF(IF(DAY(C26)=1,TRUE,FALSE),C26,EOMONTH(C26,0)+1)))-1,1),0))-IF(S26<EOMONTH(DATE(YEAR(S26),MONTH(IF(S26<=EOMONTH(C26,0),FALSE,IF(IF(DAY(C26)=1,TRUE,FALSE),C26,EOMONTH(C26,0)+1)))-1,1),0),1,0),MONTH(EOMONTH(DATE(YEAR(S26),MONTH(IF(S26<=EOMONTH(C26,0),FALSE,IF(IF(DAY(C26)=1,TRUE,FALSE),C26,EOMONTH(C26,0)+1)))-1,1),0)),1),0)+1>IF(EOMONTH(S26,0)=S26,S26,EOMONTH(S26,-1)),0,IF(MONTH(IF(EOMONTH(S26,0)=S26,S26,EOMONTH(S26,-1)))-MONTH(EOMONTH(DATE(YEAR(EOMONTH(DATE(YEAR(S26),MONTH(IF(S26<=EOMONTH(C26,0),FALSE,IF(IF(DAY(C26)=1,TRUE,FALSE),C26,EOMONTH(C26,0)+1)))-1,1),0))-IF(S26<EOMONTH(DATE(YEAR(S26),MONTH(IF(S26<=EOMONTH(C26,0),FALSE,IF(IF(DAY(C26)=1,TRUE,FALSE),C26,EOMONTH(C26,0)+1)))-1,1),0),1,0),MONTH(EOMONTH(DATE(YEAR(S26),MONTH(IF(S26<=EOMONTH(C26,0),FALSE,IF(IF(DAY(C26)=1,TRUE,FALSE),C26,EOMONTH(C26,0)+1)))-1,1),0)),1),0)+1)+1<0,12-MONTH(EOMONTH(DATE(YEAR(EOMONTH(DATE(YEAR(S26),MONTH(IF(S26<=EOMONTH(C26,0),FALSE,IF(IF(DAY(C26)=1,TRUE,FALSE),C26,EOMONTH(C26,0)+1)))-1,1),0))-IF(S26<EOMONTH(DATE(YEAR(S26),MONTH(IF(S26<=EOMONTH(C26,0),FALSE,IF(IF(DAY(C26)=1,TRUE,FALSE),C26,EOMONTH(C26,0)+1)))-1,1),0),1,0),MONTH(EOMONTH(DATE(YEAR(S26),MONTH(IF(S26<=EOMONTH(C26,0),FALSE,IF(IF(DAY(C26)=1,TRUE,FALSE),C26,EOMONTH(C26,0)+1)))-1,1),0)),1),0)+1)+MONTH(IF(EOMONTH(S26,0)=S26,S26,EOMONTH(S26,-1)))+1,MONTH(IF(EOMONTH(S26,0)=S26,S26,EOMONTH(S26,-1)))-MONTH(EOMONTH(DATE(YEAR(EOMONTH(DATE(YEAR(S26),MONTH(IF(S26<=EOMONTH(C26,0),FALSE,IF(IF(DAY(C26)=1,TRUE,FALSE),C26,EOMONTH(C26,0)+1)))-1,1),0))-IF(S26<EOMONTH(DATE(YEAR(S26),MONTH(IF(S26<=EOMONTH(C26,0),FALSE,IF(IF(DAY(C26)=1,TRUE,FALSE),C26,EOMONTH(C26,0)+1)))-1,1),0),1,0),MONTH(EOMONTH(DATE(YEAR(S26),MONTH(IF(S26<=EOMONTH(C26,0),FALSE,IF(IF(DAY(C26)=1,TRUE,FALSE),C26,EOMONTH(C26,0)+1)))-1,1),0)),1),0)+1)+1)),0)),0)+IF(S26<=EOMONTH(C26,0),S26-C26+1,IF(IF(DAY(C26)=1,TRUE,FALSE),0,EOMONTH(C26,0)-C26+1)),30) -> 1 | AA39: =CHOOSE((MOD(V39-5,100)>15)+1,"дней / days",LOOKUP(MOD(V39-1,10),{0,1,4},{"день / day","дня / days","дней / days"})) -> день / day
A40: включая время стоянки судна в порту в процессе непрерывного плавания, время нахождения судна в ремонте, время работы МПП
A41: в стационарном положении, в совокупности не более одного месяца / including time of ship' staying in a port during the continuous voyage and
A42: the period of ship's repairs in total not exceeding one month
A43: 2.1. в том числе (только для судоводителей) / navigators only:
A44: а) стаж плавания иного, чем прибрежное плавание и плавание по ВВП РФ / total time of seagoing service excluding near-coastal & RF
A45: inland waterways service: | L45: =CHOOSE((MOD(L39-5,100)>15)+1,"месяцев / month",LOOKUP(MOD(L39-1,10),{0,1,4},{"месяц / month","месяца / months","месяцев / months"})) -> месяцев / month | S45: =CHOOSE((MOD(V39-5,100)>15)+1,"дней / days",LOOKUP(MOD(V39-1,10),{0,1,4},{"день / day","дня / days","дней / days"})) -> день / day
A46: b) стаж работы на судне прибрежного плавания, а также плавание по ВВП, внутренних морских водах РФ, на ВВП РФ и
A47: акваториях морских портов РФ/ RF inland sea waters, RF inland waterways & RF port waters service:
G48: =CHOOSE((MOD(E48-5,100)>15)+1,"месяцев / month",LOOKUP(MOD(E48-1,10),{0,1,4},{"месяц / month","месяца / months","месяцев / months"})) -> месяцев / months | O48: =CHOOSE((MOD(M48-5,100)>15)+1,"дней / days",LOOKUP(MOD(M48-1,10),{0,1,4},{"день / day","дня / days","дней / days"})) -> дней / days
A49: c) выполнял обязанности, связанные с использованием аппаратуры ГМССБ / carried out duties connected with using GMDSS
...
